BEGIN:VCALENDAR
VERSION:2.0
PRODID:
CALSCALE:GREGORIAN
METHOD:PUBLISH
BEGIN:VTIMEZONE
TZID:America/New_York
BEGIN:STANDARD
DTSTART:19701025T060000
TZOFFSETTO:-0500
TZOFFSETFROM:-0400
RRULE:FREQ=YEARLY;BYMONTH=11;BYDAY=1SU
END:STANDARD
BEGIN:DAYLIGHT
DTSTART:19700426T070000
TZOFFSETTO:-0400
TZOFFSETFROM:-0500
RRULE:FREQ=YEARLY;BYMONTH=3;BYDAY=2SU
END:DAYLIGHT
END:VTIMEZONE
BEGIN:VEVENT
UID:neca-ical-event-68545
DTSTART:20260605T000000
DTEND:20260725T000000
STATUS:
SUMMARY:Out and About: Prunella Clough paintings from the 1980s and 1990s
DESCRIPTION:
LOCATION:Thomas Dane Gallery SW1Y 6BN
DTSTAMP:20260420T190028Z
END:VEVENT
END:VCALENDAR
