BEGIN:VCALENDAR
VERSION:2.0
PRODID:
CALSCALE:GREGORIAN
METHOD:PUBLISH
BEGIN:VTIMEZONE
TZID:America/New_York
BEGIN:STANDARD
DTSTART:19701025T060000
TZOFFSETTO:-0500
TZOFFSETFROM:-0400
RRULE:FREQ=YEARLY;BYMONTH=11;BYDAY=1SU
END:STANDARD
BEGIN:DAYLIGHT
DTSTART:19700426T070000
TZOFFSETTO:-0400
TZOFFSETFROM:-0500
RRULE:FREQ=YEARLY;BYMONTH=3;BYDAY=2SU
END:DAYLIGHT
END:VTIMEZONE
BEGIN:VEVENT
UID:neca-ical-event-67940
DTSTART:20260306T000000
DTEND:20260415T000000
STATUS:
SUMMARY:The Location of Lines: The Prints of Sol LeWitt 1970 - 2005
DESCRIPTION:
LOCATION:Cristea Roberts Gallery SW1Y 5JG
DTSTAMP:20260420T041924Z
END:VEVENT
END:VCALENDAR
