BEGIN:VCALENDAR
VERSION:2.0
PRODID:
CALSCALE:GREGORIAN
METHOD:PUBLISH
BEGIN:VTIMEZONE
TZID:America/New_York
BEGIN:STANDARD
DTSTART:19701025T060000
TZOFFSETTO:-0500
TZOFFSETFROM:-0400
RRULE:FREQ=YEARLY;BYMONTH=11;BYDAY=1SU
END:STANDARD
BEGIN:DAYLIGHT
DTSTART:19700426T070000
TZOFFSETTO:-0400
TZOFFSETFROM:-0500
RRULE:FREQ=YEARLY;BYMONTH=3;BYDAY=2SU
END:DAYLIGHT
END:VTIMEZONE
BEGIN:VEVENT
UID:neca-ical-event-67539
DTSTART:20251017T010000
DTEND:20251017T010000
STATUS:
SUMMARY:Gallery Brunch and Tour for Teodora Axente's Solo Exhibition F
 rom Horizon of the Matter, Rises the Vertical of the Soul
DESCRIPTION:
LOCATION:rosenfeld .
DTSTAMP:20260420T043912Z
END:VEVENT
END:VCALENDAR
