BEGIN:VCALENDAR
VERSION:2.0
PRODID:
CALSCALE:GREGORIAN
METHOD:PUBLISH
BEGIN:VTIMEZONE
TZID:America/New_York
BEGIN:STANDARD
DTSTART:19701025T060000
TZOFFSETTO:-0500
TZOFFSETFROM:-0400
RRULE:FREQ=YEARLY;BYMONTH=11;BYDAY=1SU
END:STANDARD
BEGIN:DAYLIGHT
DTSTART:19700426T070000
TZOFFSETTO:-0400
TZOFFSETFROM:-0500
RRULE:FREQ=YEARLY;BYMONTH=3;BYDAY=2SU
END:DAYLIGHT
END:VTIMEZONE
BEGIN:VEVENT
UID:neca-ical-event-67405
DTSTART:20251001T010000
DTEND:20251001T010000
STATUS:
SUMMARY:Suhail Malik in conversation with Lawrence Lek, moderated by O
 rit Gat
DESCRIPTION:
LOCATION:Goldsmiths Centre for Contemporary Art SE14 6AD
DTSTAMP:20260424T152748Z
END:VEVENT
END:VCALENDAR
