BEGIN:VCALENDAR
VERSION:2.0
PRODID:
CALSCALE:GREGORIAN
METHOD:PUBLISH
BEGIN:VTIMEZONE
TZID:America/New_York
BEGIN:STANDARD
DTSTART:19701025T060000
TZOFFSETTO:-0500
TZOFFSETFROM:-0400
RRULE:FREQ=YEARLY;BYMONTH=11;BYDAY=1SU
END:STANDARD
BEGIN:DAYLIGHT
DTSTART:19700426T070000
TZOFFSETTO:-0400
TZOFFSETFROM:-0500
RRULE:FREQ=YEARLY;BYMONTH=3;BYDAY=2SU
END:DAYLIGHT
END:VTIMEZONE
BEGIN:VEVENT
UID:neca-ical-event-67209
DTSTART:20251107T000000
DTEND:20251220T000000
STATUS:
SUMMARY:Visions of Life from an Iconic Bar, the Thames Estuary and the
  Island of Kos
DESCRIPTION:
LOCATION:Art Space Gallery - Michael Richardson Contemporary Art N1 8JS
DTSTAMP:20260424T184715Z
END:VEVENT
END:VCALENDAR
