BEGIN:VCALENDAR
VERSION:2.0
PRODID:
CALSCALE:GREGORIAN
METHOD:PUBLISH
BEGIN:VTIMEZONE
TZID:America/New_York
BEGIN:STANDARD
DTSTART:19701025T060000
TZOFFSETTO:-0500
TZOFFSETFROM:-0400
RRULE:FREQ=YEARLY;BYMONTH=11;BYDAY=1SU
END:STANDARD
BEGIN:DAYLIGHT
DTSTART:19700426T070000
TZOFFSETTO:-0400
TZOFFSETFROM:-0500
RRULE:FREQ=YEARLY;BYMONTH=3;BYDAY=2SU
END:DAYLIGHT
END:VTIMEZONE
BEGIN:VEVENT
UID:neca-ical-event-66170
DTSTART:20250228T010000
DTEND:20250228T010000
STATUS:
SUMMARY:Collect 2025 Ebony Russell Booth Talk - Cynthia Corbett Galler
 y (West Wing, W19)
DESCRIPTION:
LOCATION:Cynthia Corbett Gallery .
DTSTAMP:20260419T172536Z
END:VEVENT
END:VCALENDAR
