BEGIN:VCALENDAR
VERSION:2.0
PRODID:
CALSCALE:GREGORIAN
METHOD:PUBLISH
BEGIN:VTIMEZONE
TZID:America/New_York
BEGIN:STANDARD
DTSTART:19701025T060000
TZOFFSETTO:-0500
TZOFFSETFROM:-0400
RRULE:FREQ=YEARLY;BYMONTH=11;BYDAY=1SU
END:STANDARD
BEGIN:DAYLIGHT
DTSTART:19700426T070000
TZOFFSETTO:-0400
TZOFFSETFROM:-0500
RRULE:FREQ=YEARLY;BYMONTH=3;BYDAY=2SU
END:DAYLIGHT
END:VTIMEZONE
BEGIN:VEVENT
UID:neca-ical-event-65931
DTSTART:20250712T000000
DTEND:20251026T000000
STATUS:
SUMMARY:Lesley Barnes and Ross McAuley: Fashion Play
DESCRIPTION:
LOCATION:Yorkshire Sculpture Park WF4 4LG
DTSTAMP:20260423T020252Z
END:VEVENT
END:VCALENDAR
