BEGIN:VCALENDAR
VERSION:2.0
PRODID:
CALSCALE:GREGORIAN
METHOD:PUBLISH
BEGIN:VTIMEZONE
TZID:America/New_York
BEGIN:STANDARD
DTSTART:19701025T060000
TZOFFSETTO:-0500
TZOFFSETFROM:-0400
RRULE:FREQ=YEARLY;BYMONTH=11;BYDAY=1SU
END:STANDARD
BEGIN:DAYLIGHT
DTSTART:19700426T070000
TZOFFSETTO:-0400
TZOFFSETFROM:-0500
RRULE:FREQ=YEARLY;BYMONTH=3;BYDAY=2SU
END:DAYLIGHT
END:VTIMEZONE
BEGIN:VEVENT
UID:neca-ical-event-65574
DTSTART:20250118T000000
DTEND:20250301T000000
STATUS:
SUMMARY:CONDO London 2025: hosting Air de Paris with Pati Hill with Wo
 lfgang Tillmans
DESCRIPTION:
LOCATION:Maureen Paley: Studio M E2 7FA
DTSTAMP:20260421T084513Z
END:VEVENT
END:VCALENDAR
