BEGIN:VCALENDAR
VERSION:2.0
PRODID:
CALSCALE:GREGORIAN
METHOD:PUBLISH
BEGIN:VTIMEZONE
TZID:America/New_York
BEGIN:STANDARD
DTSTART:19701025T060000
TZOFFSETTO:-0500
TZOFFSETFROM:-0400
RRULE:FREQ=YEARLY;BYMONTH=11;BYDAY=1SU
END:STANDARD
BEGIN:DAYLIGHT
DTSTART:19700426T070000
TZOFFSETTO:-0400
TZOFFSETFROM:-0500
RRULE:FREQ=YEARLY;BYMONTH=3;BYDAY=2SU
END:DAYLIGHT
END:VTIMEZONE
BEGIN:VEVENT
UID:neca-ical-event-64827
DTSTART:20241025T000000
DTEND:20241123T000000
STATUS:
SUMMARY:Michael Craig-Martin: An Anthology | Prints and Multiples 1996
  – 2024
DESCRIPTION:
LOCATION:Cristea Roberts Gallery SW1Y 5JG
DTSTAMP:20260421T085904Z
END:VEVENT
END:VCALENDAR
