BEGIN:VCALENDAR
VERSION:2.0
PRODID:
CALSCALE:GREGORIAN
METHOD:PUBLISH
BEGIN:VTIMEZONE
TZID:America/New_York
BEGIN:STANDARD
DTSTART:19701025T060000
TZOFFSETTO:-0500
TZOFFSETFROM:-0400
RRULE:FREQ=YEARLY;BYMONTH=11;BYDAY=1SU
END:STANDARD
BEGIN:DAYLIGHT
DTSTART:19700426T070000
TZOFFSETTO:-0400
TZOFFSETFROM:-0500
RRULE:FREQ=YEARLY;BYMONTH=3;BYDAY=2SU
END:DAYLIGHT
END:VTIMEZONE
BEGIN:VEVENT
UID:neca-ical-event-62713
DTSTART:20231129T000000
DTEND:20231204T000000
STATUS:
SUMMARY:MA Design Show
DESCRIPTION:
LOCATION:UAL, Camberwell College of Arts & Chelsea College of Arts— 
 Show 2023 SW1P 4QP
DTSTAMP:20260424T195639Z
END:VEVENT
END:VCALENDAR
