BEGIN:VCALENDAR
VERSION:2.0
PRODID:
CALSCALE:GREGORIAN
METHOD:PUBLISH
BEGIN:VTIMEZONE
TZID:America/New_York
BEGIN:STANDARD
DTSTART:19701025T060000
TZOFFSETTO:-0500
TZOFFSETFROM:-0400
RRULE:FREQ=YEARLY;BYMONTH=11;BYDAY=1SU
END:STANDARD
BEGIN:DAYLIGHT
DTSTART:19700426T070000
TZOFFSETTO:-0400
TZOFFSETFROM:-0500
RRULE:FREQ=YEARLY;BYMONTH=3;BYDAY=2SU
END:DAYLIGHT
END:VTIMEZONE
BEGIN:VEVENT
UID:neca-ical-event-62530
DTSTART:20230901T000000
DTEND:20240301T000000
STATUS:
SUMMARY:> > Please refer to the website for our roaming exhibition pro
 gramme whilst we re-locate < <
DESCRIPTION:
LOCATION:Arcade SE15 1TW
DTSTAMP:20260421T115309Z
END:VEVENT
END:VCALENDAR
