BEGIN:VCALENDAR
VERSION:2.0
PRODID:
CALSCALE:GREGORIAN
METHOD:PUBLISH
BEGIN:VTIMEZONE
TZID:America/New_York
BEGIN:STANDARD
DTSTART:19701025T060000
TZOFFSETTO:-0500
TZOFFSETFROM:-0400
RRULE:FREQ=YEARLY;BYMONTH=11;BYDAY=1SU
END:STANDARD
BEGIN:DAYLIGHT
DTSTART:19700426T070000
TZOFFSETTO:-0400
TZOFFSETFROM:-0500
RRULE:FREQ=YEARLY;BYMONTH=3;BYDAY=2SU
END:DAYLIGHT
END:VTIMEZONE
BEGIN:VEVENT
UID:neca-ical-event-62453
DTSTART:20231010T000000
DTEND:20231222T000000
STATUS:
SUMMARY:Simon Lewty 1941 – 2021: Messages From the Past -  Master Wo
 rks From Five Decades
DESCRIPTION:
LOCATION:Art First SE11 4UA
DTSTAMP:20260420T044018Z
END:VEVENT
END:VCALENDAR
