BEGIN:VCALENDAR
VERSION:2.0
PRODID:
CALSCALE:GREGORIAN
METHOD:PUBLISH
BEGIN:VTIMEZONE
TZID:America/New_York
BEGIN:STANDARD
DTSTART:19701025T060000
TZOFFSETTO:-0500
TZOFFSETFROM:-0400
RRULE:FREQ=YEARLY;BYMONTH=11;BYDAY=1SU
END:STANDARD
BEGIN:DAYLIGHT
DTSTART:19700426T070000
TZOFFSETTO:-0400
TZOFFSETFROM:-0500
RRULE:FREQ=YEARLY;BYMONTH=3;BYDAY=2SU
END:DAYLIGHT
END:VTIMEZONE
BEGIN:VEVENT
UID:neca-ical-event-61718
DTSTART:20230519T000000
DTEND:20230702T000000
STATUS:
SUMMARY:Fanny Gicquel: breathing with heels, walking with eyes
DESCRIPTION:
LOCATION:Temple Bar Gallery + Studios D02 AC84
DTSTAMP:20260420T041942Z
END:VEVENT
END:VCALENDAR
