BEGIN:VCALENDAR
VERSION:2.0
PRODID:
CALSCALE:GREGORIAN
METHOD:PUBLISH
BEGIN:VTIMEZONE
TZID:America/New_York
BEGIN:STANDARD
DTSTART:19701025T060000
TZOFFSETTO:-0500
TZOFFSETFROM:-0400
RRULE:FREQ=YEARLY;BYMONTH=11;BYDAY=1SU
END:STANDARD
BEGIN:DAYLIGHT
DTSTART:19700426T070000
TZOFFSETTO:-0400
TZOFFSETFROM:-0500
RRULE:FREQ=YEARLY;BYMONTH=3;BYDAY=2SU
END:DAYLIGHT
END:VTIMEZONE
BEGIN:VEVENT
UID:neca-ical-event-60438
DTSTART:20230119T000000
DTEND:20230225T000000
STATUS:
SUMMARY:Armina Howada Mussa, Toyin Ojih Odutola, Jennifer Packer, Jem 
 Perucchini, Anika Roach, Lynette Yiadom-Boakye
DESCRIPTION:
LOCATION:Corvi-Mora SE11 4NU
DTSTAMP:20260419T170538Z
END:VEVENT
END:VCALENDAR
