BEGIN:VCALENDAR
VERSION:2.0
PRODID:
CALSCALE:GREGORIAN
METHOD:PUBLISH
BEGIN:VTIMEZONE
TZID:America/New_York
BEGIN:STANDARD
DTSTART:19701025T060000
TZOFFSETTO:-0500
TZOFFSETFROM:-0400
RRULE:FREQ=YEARLY;BYMONTH=11;BYDAY=1SU
END:STANDARD
BEGIN:DAYLIGHT
DTSTART:19700426T070000
TZOFFSETTO:-0400
TZOFFSETFROM:-0500
RRULE:FREQ=YEARLY;BYMONTH=3;BYDAY=2SU
END:DAYLIGHT
END:VTIMEZONE
BEGIN:VEVENT
UID:neca-ical-event-60227
DTSTART:20221013T000000
DTEND:20221015T000000
STATUS:
SUMMARY:Exhibition tours of Anne Imhof, Avatar II at Sprüth Magers, London
DESCRIPTION:
LOCATION:Sprüth Magers W1S 4EJ
DTSTAMP:20260420T043946Z
END:VEVENT
END:VCALENDAR
