BEGIN:VCALENDAR
VERSION:2.0
PRODID:
CALSCALE:GREGORIAN
METHOD:PUBLISH
BEGIN:VTIMEZONE
TZID:America/New_York
BEGIN:STANDARD
DTSTART:19701025T060000
TZOFFSETTO:-0500
TZOFFSETFROM:-0400
RRULE:FREQ=YEARLY;BYMONTH=11;BYDAY=1SU
END:STANDARD
BEGIN:DAYLIGHT
DTSTART:19700426T070000
TZOFFSETTO:-0400
TZOFFSETFROM:-0500
RRULE:FREQ=YEARLY;BYMONTH=3;BYDAY=2SU
END:DAYLIGHT
END:VTIMEZONE
BEGIN:VEVENT
UID:neca-ical-event-60042
DTSTART:20220905T000000
DTEND:20221003T000000
STATUS:
SUMMARY:Human Resources: Creativity as Renewable Energy in a Time of S
 carcity
DESCRIPTION:
LOCATION:Lethaby Gallery N1C 4AA
DTSTAMP:20260422T123240Z
END:VEVENT
END:VCALENDAR
