BEGIN:VCALENDAR
VERSION:2.0
PRODID:
CALSCALE:GREGORIAN
METHOD:PUBLISH
BEGIN:VTIMEZONE
TZID:America/New_York
BEGIN:STANDARD
DTSTART:19701025T060000
TZOFFSETTO:-0500
TZOFFSETFROM:-0400
RRULE:FREQ=YEARLY;BYMONTH=11;BYDAY=1SU
END:STANDARD
BEGIN:DAYLIGHT
DTSTART:19700426T070000
TZOFFSETTO:-0400
TZOFFSETFROM:-0500
RRULE:FREQ=YEARLY;BYMONTH=3;BYDAY=2SU
END:DAYLIGHT
END:VTIMEZONE
BEGIN:VEVENT
UID:neca-ical-event-59658
DTSTART:20220710T000000
DTEND:20220904T000000
STATUS:
SUMMARY:Appau Jnr Boakye-Yiadom // Before: Socialized, Circularized, L
 inearized, Artificialized, Corrupt Time
DESCRIPTION:
LOCATION:Southwark Park Galleries SE16 2UA
DTSTAMP:20260422T095313Z
END:VEVENT
END:VCALENDAR
