BEGIN:VCALENDAR
VERSION:2.0
PRODID:
CALSCALE:GREGORIAN
METHOD:PUBLISH
BEGIN:VTIMEZONE
TZID:America/New_York
BEGIN:STANDARD
DTSTART:19701025T060000
TZOFFSETTO:-0500
TZOFFSETFROM:-0400
RRULE:FREQ=YEARLY;BYMONTH=11;BYDAY=1SU
END:STANDARD
BEGIN:DAYLIGHT
DTSTART:19700426T070000
TZOFFSETTO:-0400
TZOFFSETFROM:-0500
RRULE:FREQ=YEARLY;BYMONTH=3;BYDAY=2SU
END:DAYLIGHT
END:VTIMEZONE
BEGIN:VEVENT
UID:neca-ical-event-59421
DTSTART:20220510T000000
DTEND:20220521T000000
STATUS:
SUMMARY:Ballon Rouge presents: Matt Ager at Pi Artworks curated by Fra
 ncesca Gavin
DESCRIPTION:
LOCATION:Pi Artworks .
DTSTAMP:20260420T044136Z
END:VEVENT
END:VCALENDAR
