BEGIN:VCALENDAR
VERSION:2.0
PRODID:
CALSCALE:GREGORIAN
METHOD:PUBLISH
BEGIN:VTIMEZONE
TZID:America/New_York
BEGIN:STANDARD
DTSTART:19701025T060000
TZOFFSETTO:-0500
TZOFFSETFROM:-0400
RRULE:FREQ=YEARLY;BYMONTH=11;BYDAY=1SU
END:STANDARD
BEGIN:DAYLIGHT
DTSTART:19700426T070000
TZOFFSETTO:-0400
TZOFFSETFROM:-0500
RRULE:FREQ=YEARLY;BYMONTH=3;BYDAY=2SU
END:DAYLIGHT
END:VTIMEZONE
BEGIN:VEVENT
UID:neca-ical-event-59071
DTSTART:20220501T000000
DTEND:20220626T000000
STATUS:
SUMMARY:Candida Powell-Williams // Tilt Shift: Shadows of the Seasoned Sun
DESCRIPTION:
LOCATION:Southwark Park Galleries SE16 2UA
DTSTAMP:20260422T100000Z
END:VEVENT
END:VCALENDAR
