BEGIN:VCALENDAR
VERSION:2.0
PRODID:
CALSCALE:GREGORIAN
METHOD:PUBLISH
BEGIN:VTIMEZONE
TZID:America/New_York
BEGIN:STANDARD
DTSTART:19701025T060000
TZOFFSETTO:-0500
TZOFFSETFROM:-0400
RRULE:FREQ=YEARLY;BYMONTH=11;BYDAY=1SU
END:STANDARD
BEGIN:DAYLIGHT
DTSTART:19700426T070000
TZOFFSETTO:-0400
TZOFFSETFROM:-0500
RRULE:FREQ=YEARLY;BYMONTH=3;BYDAY=2SU
END:DAYLIGHT
END:VTIMEZONE
BEGIN:VEVENT
UID:neca-ical-event-58956
DTSTART:20220224T000000
DTEND:20220521T000000
STATUS:
SUMMARY:Per Kirkeby. Geological Messages: Paintings from 1963-2015
DESCRIPTION:
LOCATION:Michael Werner Gallery (Archive) W1K 7PZ
DTSTAMP:20260419T115020Z
END:VEVENT
END:VCALENDAR
