BEGIN:VCALENDAR
VERSION:2.0
PRODID:
CALSCALE:GREGORIAN
METHOD:PUBLISH
BEGIN:VTIMEZONE
TZID:America/New_York
BEGIN:STANDARD
DTSTART:19701025T060000
TZOFFSETTO:-0500
TZOFFSETFROM:-0400
RRULE:FREQ=YEARLY;BYMONTH=11;BYDAY=1SU
END:STANDARD
BEGIN:DAYLIGHT
DTSTART:19700426T070000
TZOFFSETTO:-0400
TZOFFSETFROM:-0500
RRULE:FREQ=YEARLY;BYMONTH=3;BYDAY=2SU
END:DAYLIGHT
END:VTIMEZONE
BEGIN:VEVENT
UID:neca-ical-event-58548
DTSTART:20211126T010000
DTEND:20211126T010000
STATUS:
SUMMARY:Your success makes me wonder what kind of world you come from,
  and what would result if you touched the prize I protect.
DESCRIPTION:
LOCATION:KELDER N1 9EN
DTSTAMP:20260420T055625Z
END:VEVENT
END:VCALENDAR
