BEGIN:VCALENDAR
VERSION:2.0
PRODID:
CALSCALE:GREGORIAN
METHOD:PUBLISH
BEGIN:VTIMEZONE
TZID:America/New_York
BEGIN:STANDARD
DTSTART:19701025T060000
TZOFFSETTO:-0500
TZOFFSETFROM:-0400
RRULE:FREQ=YEARLY;BYMONTH=11;BYDAY=1SU
END:STANDARD
BEGIN:DAYLIGHT
DTSTART:19700426T070000
TZOFFSETTO:-0400
TZOFFSETFROM:-0500
RRULE:FREQ=YEARLY;BYMONTH=3;BYDAY=2SU
END:DAYLIGHT
END:VTIMEZONE
BEGIN:VEVENT
UID:neca-ical-event-58427
DTSTART:20211021T010000
DTEND:20211021T010000
STATUS:
SUMMARY:Ben Grosser in conversation with Wendy Hui Kyong Chun, Matthew
  Fuller and Joana Moll (online)
DESCRIPTION:
LOCATION:arebyte Digital Art Centre NW1 9LN
DTSTAMP:20260420T042044Z
END:VEVENT
END:VCALENDAR
