BEGIN:VCALENDAR
VERSION:2.0
PRODID:
CALSCALE:GREGORIAN
METHOD:PUBLISH
BEGIN:VTIMEZONE
TZID:America/New_York
BEGIN:STANDARD
DTSTART:19701025T060000
TZOFFSETTO:-0500
TZOFFSETFROM:-0400
RRULE:FREQ=YEARLY;BYMONTH=11;BYDAY=1SU
END:STANDARD
BEGIN:DAYLIGHT
DTSTART:19700426T070000
TZOFFSETTO:-0400
TZOFFSETFROM:-0500
RRULE:FREQ=YEARLY;BYMONTH=3;BYDAY=2SU
END:DAYLIGHT
END:VTIMEZONE
BEGIN:VEVENT
UID:neca-ical-event-58359
DTSTART:20210820T000000
DTEND:20210920T000000
STATUS:
SUMMARY:New Seasons Exhibition: Elisabeth Frink, Terry Frost, Roger Hi
 lton and William Scott
DESCRIPTION:
LOCATION:Beaux Arts 
DTSTAMP:20260424T175137Z
END:VEVENT
END:VCALENDAR
