BEGIN:VCALENDAR
VERSION:2.0
PRODID:
CALSCALE:GREGORIAN
METHOD:PUBLISH
BEGIN:VTIMEZONE
TZID:America/New_York
BEGIN:STANDARD
DTSTART:19701025T060000
TZOFFSETTO:-0500
TZOFFSETFROM:-0400
RRULE:FREQ=YEARLY;BYMONTH=11;BYDAY=1SU
END:STANDARD
BEGIN:DAYLIGHT
DTSTART:19700426T070000
TZOFFSETTO:-0400
TZOFFSETFROM:-0500
RRULE:FREQ=YEARLY;BYMONTH=3;BYDAY=2SU
END:DAYLIGHT
END:VTIMEZONE
BEGIN:VEVENT
UID:neca-ical-event-58145
DTSTART:20211002T000000
DTEND:20211113T000000
STATUS:
SUMMARY:Pu Yingwei - A Study in scarlet: The re-origin of revolutionar
 y realism
DESCRIPTION:
LOCATION:MAMOTH WC1H 0DS
DTSTAMP:20260420T043818Z
END:VEVENT
END:VCALENDAR
