BEGIN:VCALENDAR
VERSION:2.0
PRODID:
CALSCALE:GREGORIAN
METHOD:PUBLISH
BEGIN:VTIMEZONE
TZID:America/New_York
BEGIN:STANDARD
DTSTART:19701025T060000
TZOFFSETTO:-0500
TZOFFSETFROM:-0400
RRULE:FREQ=YEARLY;BYMONTH=11;BYDAY=1SU
END:STANDARD
BEGIN:DAYLIGHT
DTSTART:19700426T070000
TZOFFSETTO:-0400
TZOFFSETFROM:-0500
RRULE:FREQ=YEARLY;BYMONTH=3;BYDAY=2SU
END:DAYLIGHT
END:VTIMEZONE
BEGIN:VEVENT
UID:neca-ical-event-57535
DTSTART:20190829T000000
DTEND:20190921T000000
STATUS:
SUMMARY:&#40644;&#23431;&#20852; HUANG YUXING :
&#29289;&#21326; ESSEN
 CE OF LANDSCAPE
DESCRIPTION:
LOCATION:König London NW1 5RA
DTSTAMP:20260420T055452Z
END:VEVENT
END:VCALENDAR
