BEGIN:VCALENDAR
VERSION:2.0
PRODID:
CALSCALE:GREGORIAN
METHOD:PUBLISH
BEGIN:VTIMEZONE
TZID:America/New_York
BEGIN:STANDARD
DTSTART:19701025T060000
TZOFFSETTO:-0500
TZOFFSETFROM:-0400
RRULE:FREQ=YEARLY;BYMONTH=11;BYDAY=1SU
END:STANDARD
BEGIN:DAYLIGHT
DTSTART:19700426T070000
TZOFFSETTO:-0400
TZOFFSETFROM:-0500
RRULE:FREQ=YEARLY;BYMONTH=3;BYDAY=2SU
END:DAYLIGHT
END:VTIMEZONE
BEGIN:VEVENT
UID:neca-ical-event-56695
DTSTART:20170913T000000
DTEND:20171207T000000
STATUS:
SUMMARY:Alessandro Roma: A Vivid Dream can dreaming save us?
DESCRIPTION:
LOCATION:Yamamoto Keiko Rochaix E1 7TP
DTSTAMP:20260421T201343Z
END:VEVENT
END:VCALENDAR
