BEGIN:VCALENDAR
VERSION:2.0
PRODID:
CALSCALE:GREGORIAN
METHOD:PUBLISH
BEGIN:VTIMEZONE
TZID:America/New_York
BEGIN:STANDARD
DTSTART:19701025T060000
TZOFFSETTO:-0500
TZOFFSETFROM:-0400
RRULE:FREQ=YEARLY;BYMONTH=11;BYDAY=1SU
END:STANDARD
BEGIN:DAYLIGHT
DTSTART:19700426T070000
TZOFFSETTO:-0400
TZOFFSETFROM:-0500
RRULE:FREQ=YEARLY;BYMONTH=3;BYDAY=2SU
END:DAYLIGHT
END:VTIMEZONE
BEGIN:VEVENT
UID:neca-ical-event-56035
DTSTART:20201106T000000
DTEND:20201204T000000
STATUS:
SUMMARY:Not Made Not Chosen Not Presented
By Studio for Propositional 
 Cinema
DESCRIPTION:
LOCATION:Ml Fine Art W1S 4AX
DTSTAMP:20260420T045851Z
END:VEVENT
END:VCALENDAR
