BEGIN:VCALENDAR
VERSION:2.0
PRODID:
CALSCALE:GREGORIAN
METHOD:PUBLISH
BEGIN:VTIMEZONE
TZID:America/New_York
BEGIN:STANDARD
DTSTART:19701025T060000
TZOFFSETTO:-0500
TZOFFSETFROM:-0400
RRULE:FREQ=YEARLY;BYMONTH=11;BYDAY=1SU
END:STANDARD
BEGIN:DAYLIGHT
DTSTART:19700426T070000
TZOFFSETTO:-0400
TZOFFSETFROM:-0500
RRULE:FREQ=YEARLY;BYMONTH=3;BYDAY=2SU
END:DAYLIGHT
END:VTIMEZONE
BEGIN:VEVENT
UID:neca-ical-event-55105
DTSTART:20161103T000000
DTEND:20161217T000000
STATUS:
SUMMARY:ANIMALITY : ANIMALS AND ART.
A Fairy Story by Jens Hoffmann
DESCRIPTION:
LOCATION:Marian Goodman Gallery W1F 9JP
DTSTAMP:20260420T075244Z
END:VEVENT
END:VCALENDAR
