BEGIN:VCALENDAR
VERSION:2.0
PRODID:
CALSCALE:GREGORIAN
METHOD:PUBLISH
BEGIN:VTIMEZONE
TZID:America/New_York
BEGIN:STANDARD
DTSTART:19701025T060000
TZOFFSETTO:-0500
TZOFFSETFROM:-0400
RRULE:FREQ=YEARLY;BYMONTH=11;BYDAY=1SU
END:STANDARD
BEGIN:DAYLIGHT
DTSTART:19700426T070000
TZOFFSETTO:-0400
TZOFFSETFROM:-0500
RRULE:FREQ=YEARLY;BYMONTH=3;BYDAY=2SU
END:DAYLIGHT
END:VTIMEZONE
BEGIN:VEVENT
UID:neca-ical-event-50278
DTSTART:20121130T010000
DTEND:20121130T010000
STATUS:
SUMMARY:A Vorratskammer (Pantry) Lunch
Organised with Kathrin Böhm / myvil
DESCRIPTION:
LOCATION:Eastside Projects B9 4AR
DTSTAMP:20260419T172850Z
END:VEVENT
END:VCALENDAR
