BEGIN:VCALENDAR
VERSION:2.0
PRODID:
CALSCALE:GREGORIAN
METHOD:PUBLISH
BEGIN:VTIMEZONE
TZID:America/New_York
BEGIN:STANDARD
DTSTART:19701025T060000
TZOFFSETTO:-0500
TZOFFSETFROM:-0400
RRULE:FREQ=YEARLY;BYMONTH=11;BYDAY=1SU
END:STANDARD
BEGIN:DAYLIGHT
DTSTART:19700426T070000
TZOFFSETTO:-0400
TZOFFSETFROM:-0500
RRULE:FREQ=YEARLY;BYMONTH=3;BYDAY=2SU
END:DAYLIGHT
END:VTIMEZONE
BEGIN:VEVENT
UID:neca-ical-event-49907
DTSTART:20150627T000000
DTEND:20150906T000000
STATUS:
SUMMARY:Aquisition by Elizabeth Rowe, Clay 
Smith,Michael Forbes & Rob
 in Newman
DESCRIPTION:
LOCATION:QUAD DE1 3AS
DTSTAMP:20260424T133813Z
END:VEVENT
END:VCALENDAR
