BEGIN:VCALENDAR
VERSION:2.0
PRODID:
CALSCALE:GREGORIAN
METHOD:PUBLISH
BEGIN:VTIMEZONE
TZID:America/New_York
BEGIN:STANDARD
DTSTART:19701025T060000
TZOFFSETTO:-0500
TZOFFSETFROM:-0400
RRULE:FREQ=YEARLY;BYMONTH=11;BYDAY=1SU
END:STANDARD
BEGIN:DAYLIGHT
DTSTART:19700426T070000
TZOFFSETTO:-0400
TZOFFSETFROM:-0500
RRULE:FREQ=YEARLY;BYMONTH=3;BYDAY=2SU
END:DAYLIGHT
END:VTIMEZONE
BEGIN:VEVENT
UID:neca-ical-event-48216
DTSTART:20150110T000000
DTEND:20150307T000000
STATUS:
SUMMARY:Coco Crampton : Handles on Romance
& Other Girls also Common T
 ongue 
DESCRIPTION:
LOCATION:The Minories Galleries CO1 1UE
DTSTAMP:20260425T192104Z
END:VEVENT
END:VCALENDAR
