BEGIN:VCALENDAR
VERSION:2.0
PRODID:
CALSCALE:GREGORIAN
METHOD:PUBLISH
BEGIN:VTIMEZONE
TZID:America/New_York
BEGIN:STANDARD
DTSTART:19701025T060000
TZOFFSETTO:-0500
TZOFFSETFROM:-0400
RRULE:FREQ=YEARLY;BYMONTH=11;BYDAY=1SU
END:STANDARD
BEGIN:DAYLIGHT
DTSTART:19700426T070000
TZOFFSETTO:-0400
TZOFFSETFROM:-0500
RRULE:FREQ=YEARLY;BYMONTH=3;BYDAY=2SU
END:DAYLIGHT
END:VTIMEZONE
BEGIN:VEVENT
UID:neca-ical-event-46573
DTSTART:20191031T000000
DTEND:20200223T000000
STATUS:
SUMMARY:24/7 :  A WAKE-UP CALL
FOR OUR NON-STOP WORLD
DESCRIPTION:
LOCATION:Somerset House WC2R 1LA
DTSTAMP:20260419T143159Z
END:VEVENT
END:VCALENDAR
