BEGIN:VCALENDAR
VERSION:2.0
PRODID:
CALSCALE:GREGORIAN
METHOD:PUBLISH
BEGIN:VTIMEZONE
TZID:America/New_York
BEGIN:STANDARD
DTSTART:19701025T060000
TZOFFSETTO:-0500
TZOFFSETFROM:-0400
RRULE:FREQ=YEARLY;BYMONTH=11;BYDAY=1SU
END:STANDARD
BEGIN:DAYLIGHT
DTSTART:19700426T070000
TZOFFSETTO:-0400
TZOFFSETFROM:-0500
RRULE:FREQ=YEARLY;BYMONTH=3;BYDAY=2SU
END:DAYLIGHT
END:VTIMEZONE
BEGIN:VEVENT
UID:neca-ical-event-39917
DTSTART:20130202T010000
DTEND:20130202T010000
STATUS:
SUMMARY:Shezad Dawood : PRAED with
New Dream Machine Project 
DESCRIPTION:
LOCATION:Parasol Unit Foundation For Contemporary Art N1 7RW
DTSTAMP:20260421T110029Z
END:VEVENT
END:VCALENDAR
