BEGIN:VCALENDAR
VERSION:2.0
PRODID:
CALSCALE:GREGORIAN
METHOD:PUBLISH
BEGIN:VTIMEZONE
TZID:America/New_York
BEGIN:STANDARD
DTSTART:19701025T060000
TZOFFSETTO:-0500
TZOFFSETFROM:-0400
RRULE:FREQ=YEARLY;BYMONTH=11;BYDAY=1SU
END:STANDARD
BEGIN:DAYLIGHT
DTSTART:19700426T070000
TZOFFSETTO:-0400
TZOFFSETFROM:-0500
RRULE:FREQ=YEARLY;BYMONTH=3;BYDAY=2SU
END:DAYLIGHT
END:VTIMEZONE
BEGIN:VEVENT
UID:neca-ical-event-39861
DTSTART:20190522T000000
DTEND:20190908T000000
STATUS:
SUMMARY:Nine Iranian Artists in London :
THE SPARK IS YOU
DESCRIPTION:
LOCATION:Parasol Unit Foundation For Contemporary Art N1 7RW
DTSTAMP:20260421T105523Z
END:VEVENT
END:VCALENDAR
