BEGIN:VCALENDAR
VERSION:2.0
PRODID:
CALSCALE:GREGORIAN
METHOD:PUBLISH
BEGIN:VTIMEZONE
TZID:America/New_York
BEGIN:STANDARD
DTSTART:19701025T060000
TZOFFSETTO:-0500
TZOFFSETFROM:-0400
RRULE:FREQ=YEARLY;BYMONTH=11;BYDAY=1SU
END:STANDARD
BEGIN:DAYLIGHT
DTSTART:19700426T070000
TZOFFSETTO:-0400
TZOFFSETFROM:-0500
RRULE:FREQ=YEARLY;BYMONTH=3;BYDAY=2SU
END:DAYLIGHT
END:VTIMEZONE
BEGIN:VEVENT
UID:neca-ical-event-36241
DTSTART:20070914T000000
DTEND:20071012T000000
STATUS:
SUMMARY:Ermanno Leinardi :
Paintings 1970-2004
DESCRIPTION:
LOCATION:Austin / Desmond Fine Art WC1B 3BN
DTSTAMP:20260423T184606Z
END:VEVENT
END:VCALENDAR
