BEGIN:VCALENDAR
VERSION:2.0
PRODID:
CALSCALE:GREGORIAN
METHOD:PUBLISH
BEGIN:VTIMEZONE
TZID:America/New_York
BEGIN:STANDARD
DTSTART:19701025T060000
TZOFFSETTO:-0500
TZOFFSETFROM:-0400
RRULE:FREQ=YEARLY;BYMONTH=11;BYDAY=1SU
END:STANDARD
BEGIN:DAYLIGHT
DTSTART:19700426T070000
TZOFFSETTO:-0400
TZOFFSETFROM:-0500
RRULE:FREQ=YEARLY;BYMONTH=3;BYDAY=2SU
END:DAYLIGHT
END:VTIMEZONE
BEGIN:VEVENT
UID:neca-ical-event-33563
DTSTART:20090406T000000
DTEND:20090418T000000
STATUS:
SUMMARY:Responses to Conflict and
Loss, A&D Gallery, Hatfield
DESCRIPTION:
LOCATION:UH Arts + Culture AL10 9AB
DTSTAMP:20260420T055344Z
END:VEVENT
END:VCALENDAR
