BEGIN:VCALENDAR
VERSION:2.0
PRODID:
CALSCALE:GREGORIAN
METHOD:PUBLISH
BEGIN:VTIMEZONE
TZID:America/New_York
BEGIN:STANDARD
DTSTART:19701025T060000
TZOFFSETTO:-0500
TZOFFSETFROM:-0400
RRULE:FREQ=YEARLY;BYMONTH=11;BYDAY=1SU
END:STANDARD
BEGIN:DAYLIGHT
DTSTART:19700426T070000
TZOFFSETTO:-0400
TZOFFSETFROM:-0500
RRULE:FREQ=YEARLY;BYMONTH=3;BYDAY=2SU
END:DAYLIGHT
END:VTIMEZONE
BEGIN:VEVENT
UID:neca-ical-event-32552
DTSTART:20090514T000000
DTEND:20100404T000000
STATUS:
SUMMARY:Between Metaphor & Object :
Art of the 90s from IMMA
DESCRIPTION:
LOCATION:IMMA, Irish Museum Of Modern Art D08 FW31
DTSTAMP:20260421T102206Z
END:VEVENT
END:VCALENDAR
