BEGIN:VCALENDAR
VERSION:2.0
PRODID:
CALSCALE:GREGORIAN
METHOD:PUBLISH
BEGIN:VTIMEZONE
TZID:America/New_York
BEGIN:STANDARD
DTSTART:19701025T060000
TZOFFSETTO:-0500
TZOFFSETFROM:-0400
RRULE:FREQ=YEARLY;BYMONTH=11;BYDAY=1SU
END:STANDARD
BEGIN:DAYLIGHT
DTSTART:19700426T070000
TZOFFSETTO:-0400
TZOFFSETFROM:-0500
RRULE:FREQ=YEARLY;BYMONTH=3;BYDAY=2SU
END:DAYLIGHT
END:VTIMEZONE
BEGIN:VEVENT
UID:neca-ical-event-28498
DTSTART:20100325T010000
DTEND:20100325T010000
STATUS:
SUMMARY:Format: The First Women&#8217;s
Photographic Agency
DESCRIPTION:
LOCATION:National Portrait Gallery (Archive) WC2H 0HE
DTSTAMP:20260421T200944Z
END:VEVENT
END:VCALENDAR
