BEGIN:VCALENDAR
VERSION:2.0
PRODID:
CALSCALE:GREGORIAN
METHOD:PUBLISH
BEGIN:VTIMEZONE
TZID:America/New_York
BEGIN:STANDARD
DTSTART:19701025T060000
TZOFFSETTO:-0500
TZOFFSETFROM:-0400
RRULE:FREQ=YEARLY;BYMONTH=11;BYDAY=1SU
END:STANDARD
BEGIN:DAYLIGHT
DTSTART:19700426T070000
TZOFFSETTO:-0400
TZOFFSETFROM:-0500
RRULE:FREQ=YEARLY;BYMONTH=3;BYDAY=2SU
END:DAYLIGHT
END:VTIMEZONE
BEGIN:VEVENT
UID:neca-ical-event-26271
DTSTART:20100518T000000
DTEND:20100618T000000
STATUS:
SUMMARY:From Tehran to London :
New Painting from Iran
DESCRIPTION:
LOCATION:Jill George Gallery W1T 4RJ
DTSTAMP:20260424T114615Z
END:VEVENT
END:VCALENDAR
